
BEGIN:VCALENDAR
VERSION:2.0
PRODID:-//Ignite Long Island - ECPv6.15.6//NONSGML v1.0//EN
CALSCALE:GREGORIAN
METHOD:PUBLISH
X-WR-CALNAME:Ignite Long Island
X-ORIGINAL-URL:https://ignitelongisland.org
X-WR-CALDESC:Events for Ignite Long Island
REFRESH-INTERVAL;VALUE=DURATION:PT1H
X-Robots-Tag:noindex
X-PUBLISHED-TTL:PT1H
BEGIN:VTIMEZONE
TZID:America/New_York
BEGIN:DAYLIGHT
TZOFFSETFROM:-0500
TZOFFSETTO:-0400
TZNAME:EDT
DTSTART:20250309T070000
END:DAYLIGHT
BEGIN:STANDARD
TZOFFSETFROM:-0400
TZOFFSETTO:-0500
TZNAME:EST
DTSTART:20251102T060000
END:STANDARD
BEGIN:DAYLIGHT
TZOFFSETFROM:-0500
TZOFFSETTO:-0400
TZNAME:EDT
DTSTART:20260308T070000
END:DAYLIGHT
BEGIN:STANDARD
TZOFFSETFROM:-0400
TZOFFSETTO:-0500
TZNAME:EST
DTSTART:20261101T060000
END:STANDARD
BEGIN:DAYLIGHT
TZOFFSETFROM:-0500
TZOFFSETTO:-0400
TZNAME:EDT
DTSTART:20270314T070000
END:DAYLIGHT
BEGIN:STANDARD
TZOFFSETFROM:-0400
TZOFFSETTO:-0500
TZNAME:EST
DTSTART:20271107T060000
END:STANDARD
END:VTIMEZONE
BEGIN:VEVENT
DTSTART;TZID=America/New_York:20261005T080000
DTEND;TZID=America/New_York:20261005T170000
DTSTAMP:20260422T102841
CREATED:20251201T153941Z
LAST-MODIFIED:20251201T153941Z
UID:10000013-1791187200-1791219600@ignitelongisland.org
SUMMARY:Annual Golf Outing
DESCRIPTION:Ignite LI’s Annual Golf Outing is a fun-filled day of networking\, friendly competition\, and community spirit on the course. Join fellow professionals\, partners\, and friends for a round of golf\, contests\, raffles\, and great food\, all in support of Ignite LI’s mission to strengthen and promote Long Island’s manufacturing and business community. Whether you’re a seasoned golfer or a casual player\, this outing is a great way to connect\, relax\, and make an impact.
URL:https://ignitelongisland.org/event/annual-golf-outing/
LOCATION:Nissequogue Golf Club
END:VEVENT
END:VCALENDAR